BEGIN:VCALENDAR
VERSION:2.0
PRODID:-//Squarespace Inc/Squarespace 6//v6//EN
BEGIN:VEVENT
UID:5b82fd5e898583e9f6e2f148@squarespace.com
DTSTAMP:20181127T184349Z
DTSTART:20181223T010000Z
DTEND:20181223T040000Z
SUMMARY:Mr Matt Crawley
END:VEVENT
END:VCALENDAR
