BEGIN:VCALENDAR
VERSION:2.0
PRODID:-//Squarespace Inc/Squarespace 6//v6//EN
BEGIN:VEVENT
UID:5b6cbb911ae6cf891d3507fc@squarespace.com
DTSTAMP:20180809T221409Z
DTSTART:20180823T233000Z
DTEND:20180824T033000Z
SUMMARY:Nick Brightwell - live
END:VEVENT
END:VCALENDAR
