BEGIN:VCALENDAR
VERSION:2.0
PRODID:-//Squarespace Inc/Squarespace 6//v6//EN
BEGIN:VEVENT
UID:5ae2a180562fa77dfd8f23d0@squarespace.com
DTSTAMP:20180427T041047Z
DTSTART:20180519T230000Z
DTEND:20180520T030000Z
SUMMARY:Lucky Lance
END:VEVENT
END:VCALENDAR
