BEGIN:VCALENDAR
VERSION:2.0
PRODID:-//Squarespace Inc/Squarespace 6//v6//EN
BEGIN:VEVENT
UID:5a8f09d60d9297d61af00001@squarespace.com
DTSTAMP:20180226T204141Z
DTSTART:20180326T000000Z
DTEND:20180326T040000Z
SUMMARY:DJ Corysco
END:VEVENT
END:VCALENDAR
