BEGIN:VCALENDAR
VERSION:2.0
PRODID:-//Squarespace Inc/Squarespace 6//v6//EN
BEGIN:VEVENT
UID:5a9f1f6a085229fcc998f0ed@squarespace.com
DTSTAMP:20180306T231133Z
DTSTART:20180321T213000Z
DTEND:20180321T233000Z
SUMMARY:Book Launch - The Short Life and Mysterious Death of Jane Furlong
END:VEVENT
END:VCALENDAR
