BEGIN:VCALENDAR
VERSION:2.0
PRODID:-//Squarespace Inc/Squarespace 6//v6//EN
BEGIN:VEVENT
UID:5a7c90e20852293184e775b7@squarespace.com
DTSTAMP:20180208T180741Z
DTSTART:20180208T183000Z
DTEND:20180210T193000Z
SUMMARY:Lucky Lucky Noodle
END:VEVENT
END:VCALENDAR
