BEGIN:VCALENDAR
VERSION:2.0
PRODID:-//Squarespace Inc/Squarespace 6//v6//EN
BEGIN:VEVENT
UID:5bfd90bbf950b74e2c249df5@squarespace.com
DTSTAMP:20181127T184924Z
DTSTART:20181129T000000Z
DTEND:20181201T040000Z
SUMMARY:Mexican Pop-up - featuring Chef Kirk Lafferty
END:VEVENT
END:VCALENDAR
