BEGIN:VCALENDAR
VERSION:2.0
PRODID:-//Squarespace Inc/Squarespace 6//v6//EN
BEGIN:VEVENT
UID:5bd4b3c18165f5a5e90f6b5f@squarespace.com
DTSTAMP:20181118T221433Z
DTSTART:20181123T003000Z
DTEND:20181123T040000Z
SUMMARY:Motel World
END:VEVENT
END:VCALENDAR
