BEGIN:VCALENDAR
VERSION:2.0
PRODID:-//Squarespace Inc/Squarespace 6//v6//EN
BEGIN:VEVENT
UID:5bbfa04de4966b9d7047680f@squarespace.com
DTSTAMP:20181019T035204Z
DTSTART:20181025T233000Z
DTEND:20181026T030000Z
SUMMARY:Lovebucket Presents: Shindig - Live at Lovebucket
END:VEVENT
END:VCALENDAR
