BEGIN:VCALENDAR
VERSION:2.0
PRODID:-//Squarespace Inc/Squarespace 6//v6//EN
BEGIN:VEVENT
UID:59a5f9b64c0dbf248145d83d@squarespace.com
DTSTAMP:20180826T191712Z
DTSTART:20180916T000000Z
DTEND:20180916T030000Z
SUMMARY:Nigel Love remix magix
END:VEVENT
END:VCALENDAR
