BEGIN:VCALENDAR
VERSION:2.0
PRODID:-//Squarespace Inc/Squarespace 6//v6//EN
BEGIN:VEVENT
UID:59f77c9e1095262d6b14132b@squarespace.com
DTSTAMP:20181019T034922Z
DTSTART:20181019T230000Z
DTEND:20181020T030000Z
SUMMARY:The Mighty Jabsco
END:VEVENT
END:VCALENDAR
