BEGIN:VCALENDAR
VERSION:2.0
PRODID:-//Squarespace Inc/Squarespace 6//v6//EN
BEGIN:VEVENT
UID:59a5fb6de9bfdf58264082e4@squarespace.com
DTSTAMP:20171030T192518Z
DTSTART:20170902T230000Z
DTEND:20170903T030000Z
SUMMARY:Labretta Suede and Johnny Moondog
END:VEVENT
END:VCALENDAR
