BEGIN:VCALENDAR
VERSION:2.0
PRODID:-//Squarespace Inc/Squarespace 6//v6//EN
BEGIN:VEVENT
UID:59751bc62994ca0d03c87617@squarespace.com
DTSTAMP:20170730T205714Z
DTSTART:20170826T230000Z
DTEND:20170827T030000Z
SUMMARY:Lady Rox
END:VEVENT
END:VCALENDAR
