BEGIN:VCALENDAR
VERSION:2.0
PRODID:-//Squarespace Inc/Squarespace 6//v6//EN
BEGIN:VEVENT
UID:597e3f8bbebafb171303ca56@squarespace.com
DTSTAMP:20170730T202557Z
DTSTART:20170819T230000Z
DTEND:20170820T030000Z
SUMMARY:Alisha
END:VEVENT
END:VCALENDAR
