BEGIN:VCALENDAR
VERSION:2.0
PRODID:-//Squarespace Inc/Squarespace 6//v6//EN
BEGIN:VEVENT
UID:597e4850e4fcb5137f968a2a@squarespace.com
DTSTAMP:20170730T210101Z
DTSTART:20170801T230000Z
DTEND:20170828T030000Z
SUMMARY:Disc Jockeys for your enjoyment - every Fri & Sat
END:VEVENT
END:VCALENDAR
