BEGIN:VCALENDAR
VERSION:2.0
PRODID:-//Squarespace Inc/Squarespace 6//v6//EN
BEGIN:VEVENT
UID:595982b3d482e969dd2a8420@squarespace.com
DTSTAMP:20170712T235953Z
DTSTART:20170601T230000Z
DTEND:20170602T030000Z
SUMMARY:Hopetoun Brown 
END:VEVENT
END:VCALENDAR
