BEGIN:VCALENDAR
VERSION:2.0
PRODID:-//Squarespace Inc/Squarespace 6//v6//EN
BEGIN:VEVENT
UID:5948be0f8419c258614207ca@squarespace.com
DTSTAMP:20170620T062307Z
DTSTART:20170628T200000Z
DTEND:20170629T030000Z
SUMMARY:Plantation Rum - Tap Takeover
END:VEVENT
END:VCALENDAR
