BEGIN:VCALENDAR
VERSION:2.0
PRODID:-//Squarespace Inc/Squarespace 6//v6//EN
BEGIN:VEVENT
UID:5929f8cfd482e9898c5bd3cb@squarespace.com
DTSTAMP:20181029T181224Z
DTSTART:20181111T010000Z
DTEND:20181112T040000Z
SUMMARY:Tina Turntables - hollerin’\, jumpin’ blues and early juke joint ja
 ms
END:VEVENT
END:VCALENDAR
