BEGIN:VCALENDAR
VERSION:2.0
PRODID:-//Squarespace Inc/Squarespace 6//v6//EN
BEGIN:VEVENT
UID:5bad5d1a652deae65f476aae@squarespace.com
DTSTAMP:20181019T035347Z
DTSTART:20181021T000000Z
DTEND:20181021T030000Z
SUMMARY:Tina Turntables - hollerin’\, jumpin’ blues and early juke joint ja
 ms
END:VEVENT
END:VCALENDAR
