BEGIN:VCALENDAR
VERSION:2.0
PRODID:-//Squarespace Inc/Squarespace 6//v6//EN
BEGIN:VEVENT
UID:59079773f7e0abd83896702b@squarespace.com
DTSTAMP:20170508T060534Z
DTSTART:20170614T230000Z
DTEND:20170615T030000Z
SUMMARY:Barrel Aged Masterclass - with Beer Without Borders 
END:VEVENT
END:VCALENDAR
