BEGIN:VCALENDAR
VERSION:2.0
PRODID:-//Squarespace Inc/Squarespace 6//v6//EN
BEGIN:VEVENT
UID:5907963015d5db8f8bca0b95@squarespace.com
DTSTAMP:20170501T201328Z
DTSTART:20170507T210000Z
DTEND:20170508T210000Z
SUMMARY:Wine for the People - Cult Wine & Hillside Kitchen
END:VEVENT
END:VCALENDAR
