BEGIN:VCALENDAR
VERSION:2.0
PRODID:-//Squarespace Inc/Squarespace 6//v6//EN
BEGIN:VEVENT
UID:5908019bb3db2b59f5336e48@squarespace.com
DTSTAMP:20171123T185731Z
DTSTART:20171224T000000Z
DTEND:20171224T040000Z
SUMMARY:Josh on Decks - Saturday Nite Special
END:VEVENT
END:VCALENDAR
