BEGIN:VCALENDAR
VERSION:2.0
PRODID:-//Squarespace Inc/Squarespace 6//v6//EN
BEGIN:VEVENT
UID:5c08314d4fa51a55231684e8@squarespace.com
DTSTAMP:20181205T201451Z
DTSTART:20181209T010000Z
DTEND:20181209T040000Z
SUMMARY:TV DiSKO
END:VEVENT
END:VCALENDAR
