BEGIN:VCALENDAR
VERSION:2.0
PRODID:-//Squarespace Inc/Squarespace 6//v6//EN
BEGIN:VEVENT
UID:58e6e68e1b631be056cc7d9c@squarespace.com
DTSTAMP:20170829T233118Z
DTSTART:20170901T230000Z
DTEND:20170930T030000Z
SUMMARY:Stinky Jim - serving up the Friday grooves
END:VEVENT
END:VCALENDAR
