BEGIN:VCALENDAR
VERSION:2.0
PRODID:-//Squarespace Inc/Squarespace 6//v6//EN
BEGIN:VEVENT
UID:59080356d1758e63281aae16@squarespace.com
DTSTAMP:20170502T035710Z
DTSTART:20170527T230000Z
DTEND:20170528T030000Z
SUMMARY:Kurt Dyer - Saturday Set
END:VEVENT
END:VCALENDAR
