BEGIN:VCALENDAR
VERSION:2.0
PRODID:-//Squarespace Inc/Squarespace 6//v6//EN
BEGIN:VEVENT
UID:590803a2b3db2b59f5338955@squarespace.com
DTSTAMP:20180427T040427Z
DTSTART:20180512T230000Z
DTEND:20180513T030000Z
SUMMARY:Martyn Pepperell 
END:VEVENT
END:VCALENDAR
