BEGIN:VCALENDAR
VERSION:2.0
PRODID:-//Squarespace Inc/Squarespace 6//v6//EN
BEGIN:VEVENT
UID:59d1471751a584ee61171004@squarespace.com
DTSTAMP:20171030T191732Z
DTSTART:20171104T230000Z
DTEND:20171105T030000Z
SUMMARY:Martyn Pepperell 
END:VEVENT
END:VCALENDAR
