BEGIN:VCALENDAR
VERSION:2.0
PRODID:-//Squarespace Inc/Squarespace 6//v6//EN
BEGIN:VEVENT
UID:5abb53e2f950b7364cce4d14@squarespace.com
DTSTAMP:20181127T184030Z
DTSTART:20181202T000000Z
DTEND:20181202T040000Z
SUMMARY:Martyn Pepperell 
END:VEVENT
END:VCALENDAR
