BEGIN:VCALENDAR
VERSION:2.0
PRODID:-//Squarespace Inc/Squarespace 6//v6//EN
BEGIN:VEVENT
UID:5b581b7e352f53639c17750e@squarespace.com
DTSTAMP:20180725T064129Z
DTSTART:20180818T230000Z
DTEND:20180819T020000Z
SUMMARY:Martyn Pepperell - August
END:VEVENT
END:VCALENDAR
