BEGIN:VCALENDAR
VERSION:2.0
PRODID:-//Squarespace Inc/Squarespace 6//v6//EN
BEGIN:VEVENT
UID:5907938b197aea19727a9320@squarespace.com
DTSTAMP:20170502T034548Z
DTSTART:20170511T200000Z
DTEND:20170527T160000Z
SUMMARY:Judge Bao - Asian Fusion - KItchen Takeover
END:VEVENT
END:VCALENDAR
