BEGIN:VCALENDAR
VERSION:2.0
PRODID:-//Squarespace Inc/Squarespace 6//v6//EN
BEGIN:VEVENT
UID:58e6e6f13a0411b77950ae32@squarespace.com
DTSTAMP:20171030T191814Z
DTSTART:20171112T000000Z
DTEND:20171112T040000Z
SUMMARY:Josh on Decks - Saturday sweet life 
END:VEVENT
END:VCALENDAR
