BEGIN:VCALENDAR
VERSION:2.0
PRODID:-//Squarespace Inc/Squarespace 6//v6//EN
BEGIN:VEVENT
UID:58e6e92de4fcb55f5af7a07b@squarespace.com
DTSTAMP:20171030T191653Z
DTSTART:20171103T230000Z
DTEND:20171104T030000Z
SUMMARY:Dubhead - dubwise for d'em guys and gals
END:VEVENT
END:VCALENDAR
