BEGIN:VCALENDAR
VERSION:2.0
PRODID:-//Squarespace Inc/Squarespace 6//v6//EN
BEGIN:VEVENT
UID:59d145cfe3df28867be2ea39@squarespace.com
DTSTAMP:20171030T191843Z
DTSTART:20171118T000000Z
DTEND:20171118T040000Z
SUMMARY:Dubhead - Friday nite dubwise for d'em guys and gals
END:VEVENT
END:VCALENDAR
