BEGIN:VCALENDAR
VERSION:2.0
PRODID:-//Squarespace Inc/Squarespace 6//v6//EN
BEGIN:VEVENT
UID:58e6e851725e25abcc409153@squarespace.com
DTSTAMP:20171123T185705Z
DTSTART:20171210T000000Z
DTEND:20171210T040000Z
SUMMARY:Murray Cammick - a little special something
END:VEVENT
END:VCALENDAR
