BEGIN:VCALENDAR
VERSION:2.0
PRODID:-//Squarespace Inc/Squarespace 6//v6//EN
BEGIN:VEVENT
UID:58e6e62bbebafb33cc4fa808@squarespace.com
DTSTAMP:20170407T010820Z
DTSTART:20170421T230000Z
DTEND:20170423T030000Z
SUMMARY:Stinky Jim- serving up the grooves
END:VEVENT
END:VCALENDAR
