BEGIN:VCALENDAR
VERSION:2.0
PRODID:-//Squarespace Inc/Squarespace 6//v6//EN
BEGIN:VEVENT
UID:58d22e4e5016e17768a15636@squarespace.com
DTSTAMP:20170407T010614Z
DTSTART:20170407T230000Z
DTEND:20170408T030000Z
SUMMARY:Stinky Jim - Serving up the grooves
GEO:-36.857501;174.75764
LOCATION:Lovebucket\, 309 Karangahape Road\, Auckland\, 1010\, New Zealand
END:VEVENT
END:VCALENDAR
