BEGIN:VCALENDAR
VERSION:2.0
PRODID:-//Squarespace Inc/Squarespace 6//v6//EN
BEGIN:VEVENT
UID:5a17188d71c10b644b3d9721@squarespace.com
DTSTAMP:20171123T185344Z
DTSTART:20171203T000000Z
DTEND:20171204T040000Z
SUMMARY:Stinky Jim and Dubhead
END:VEVENT
END:VCALENDAR
