BEGIN:VCALENDAR
VERSION:2.0
PRODID:-//Squarespace Inc/Squarespace 6//v6//EN
BEGIN:VEVENT
UID:5a17193824a694106d1d48d0@squarespace.com
DTSTAMP:20171123T185408Z
DTSTART:20171209T000000Z
DTEND:20171209T040000Z
SUMMARY:Stinky Jim and Dubhead
END:VEVENT
END:VCALENDAR
