BEGIN:VCALENDAR
VERSION:2.0
PRODID:-//Squarespace Inc/Squarespace 6//v6//EN
BEGIN:VEVENT
UID:5a1719758165f542d631647d@squarespace.com
DTSTAMP:20171123T185504Z
DTSTART:20171216T000000Z
DTEND:20171216T040000Z
SUMMARY:Stinky Jim and Dubhead
END:VEVENT
END:VCALENDAR
