BEGIN:VCALENDAR
VERSION:2.0
PRODID:-//Squarespace Inc/Squarespace 6//v6//EN
BEGIN:VEVENT
UID:5a17198f71c10b644b3db975@squarespace.com
DTSTAMP:20171123T185522Z
DTSTART:20171223T000000Z
DTEND:20171223T040000Z
SUMMARY:Stinky Jim and Dubhead
END:VEVENT
END:VCALENDAR
