BEGIN:VCALENDAR
VERSION:2.0
PRODID:-//Squarespace Inc/Squarespace 6//v6//EN
BEGIN:VEVENT
UID:5a1719a424a694106d1d56a9@squarespace.com
DTSTAMP:20180117T181333Z
DTSTART:20180120T000000Z
DTEND:20180120T040000Z
SUMMARY:Stinky Jim 
END:VEVENT
END:VCALENDAR
