BEGIN:VCALENDAR
VERSION:2.0
PRODID:-//Squarespace Inc/Squarespace 6//v6//EN
BEGIN:VEVENT
UID:5a5bbe0424a69410faa782ca@squarespace.com
DTSTAMP:20180427T040255Z
DTSTART:20180303T000000Z
DTEND:20180526T030000Z
SUMMARY:Stinky Jim 
END:VEVENT
END:VCALENDAR
