BEGIN:VCALENDAR
VERSION:2.0
PRODID:-//Squarespace Inc/Squarespace 6//v6//EN
BEGIN:VEVENT
UID:5b1618d08a922d0c6b419843@squarespace.com
DTSTAMP:20181127T184455Z
DTSTART:20181201T000000Z
DTEND:20181222T040000Z
SUMMARY:Stinky Jim - Friday Night Set
END:VEVENT
END:VCALENDAR
