BEGIN:VCALENDAR
VERSION:2.0
PRODID:-//Squarespace Inc/Squarespace 6//v6//EN
BEGIN:VEVENT
UID:5b32b929f950b79d470add22@squarespace.com
DTSTAMP:20180626T220819Z
DTSTART:20180706T230000Z
DTEND:20180728T030000Z
SUMMARY:Stinky Jim - Friday Night Special
END:VEVENT
END:VCALENDAR
