BEGIN:VCALENDAR
VERSION:2.0
PRODID:-//Squarespace Inc/Squarespace 6//v6//EN
BEGIN:VEVENT
UID:5a171a5eec212d9bd38a788d@squarespace.com
DTSTAMP:20171123T194322Z
DTSTART:20171203T000000Z
DTEND:20171203T040000Z
SUMMARY:Chopper Reeds (FFD) and The Mighty Longboss
END:VEVENT
END:VCALENDAR
