BEGIN:VCALENDAR
VERSION:2.0
PRODID:-//Squarespace Inc/Squarespace 6//v6//EN
BEGIN:VEVENT
UID:5a1e47e7f9619afa6adcffa8@squarespace.com
DTSTAMP:20171129T054209Z
DTSTART:20171124T110000Z
DTEND:20171208T040000Z
SUMMARY:Garage Project - last seen at Lovebucket
END:VEVENT
END:VCALENDAR
