BEGIN:VCALENDAR
VERSION:2.0
PRODID:-//Squarespace Inc/Squarespace 6//v6//EN
BEGIN:VEVENT
UID:59d1482637c5819421ef9bf7@squarespace.com
DTSTAMP:20171001T195624Z
DTSTART:20171027T230000Z
DTEND:20171028T030000Z
SUMMARY:DJ Automatic
END:VEVENT
END:VCALENDAR
