BEGIN:VCALENDAR
VERSION:2.0
PRODID:-//Squarespace Inc/Squarespace 6//v6//EN
BEGIN:VEVENT
UID:59d1477fbebafbd725025ff8@squarespace.com
DTSTAMP:20171030T192504Z
DTSTART:20171119T000000Z
DTEND:20171119T040000Z
SUMMARY:Polite Notice
END:VEVENT
END:VCALENDAR
